BEGIN:VCALENDAR
VERSION:2.0
PRODID:-//Fundación Pía Aguirreche - ECPv6.15.20//NONSGML v1.0//EN
CALSCALE:GREGORIAN
METHOD:PUBLISH
X-WR-CALNAME:Fundación Pía Aguirreche
X-ORIGINAL-URL:https://fundacionpiaaguirreche.org
X-WR-CALDESC:Eventos para Fundación Pía Aguirreche
REFRESH-INTERVAL;VALUE=DURATION:PT1H
X-Robots-Tag:noindex
X-PUBLISHED-TTL:PT1H
BEGIN:VTIMEZONE
TZID:Europe/Madrid
BEGIN:DAYLIGHT
TZOFFSETFROM:+0100
TZOFFSETTO:+0200
TZNAME:CEST
DTSTART:20250330T010000
END:DAYLIGHT
BEGIN:STANDARD
TZOFFSETFROM:+0200
TZOFFSETTO:+0100
TZNAME:CET
DTSTART:20251026T010000
END:STANDARD
BEGIN:DAYLIGHT
TZOFFSETFROM:+0100
TZOFFSETTO:+0200
TZNAME:CEST
DTSTART:20260329T010000
END:DAYLIGHT
BEGIN:STANDARD
TZOFFSETFROM:+0200
TZOFFSETTO:+0100
TZNAME:CET
DTSTART:20261025T010000
END:STANDARD
BEGIN:DAYLIGHT
TZOFFSETFROM:+0100
TZOFFSETTO:+0200
TZNAME:CEST
DTSTART:20270328T010000
END:DAYLIGHT
BEGIN:STANDARD
TZOFFSETFROM:+0200
TZOFFSETTO:+0100
TZNAME:CET
DTSTART:20271031T010000
END:STANDARD
END:VTIMEZONE
BEGIN:VEVENT
DTSTART;TZID=Europe/Madrid:20260506T183000
DTEND;TZID=Europe/Madrid:20260506T200000
DTSTAMP:20260426T045716
CREATED:20260414T111454Z
LAST-MODIFIED:20260414T111454Z
UID:4903-1778092200-1778097600@fundacionpiaaguirreche.org
SUMMARY:Mesa redonda: Atención primaria y cuidados paliativos
DESCRIPTION:La mesa redonda forma parte del proyecto Bilbao por una cultura paliativa. Abordará la cuestión de los cuidados paliativos en la atención primaria. La moderará María Galíndez que es médico paliativista\, de atención primaria y vicepresidenta de la Fundación Pía Aguirreche. \nParticiparán como ponentes la Dra. María Montse Pérez\, paliativista en el Hospital Comarcal de Bidasoa (Guipúzcoa); Naomi Hasson\, enfermera paliativista (Vizcaya)\, directora de Getxo Zurekin y presidenta de Arinduz; y el Dr. Alberto Meléndez\, médico de familia y paliativista en el Hospital de Álava. \nLa asistencia es gratuita. Sólo se requiere inscribirse en el enlace del QR. Al finalizar el evento se entregarán a los asistentes los libros publicados por la fundación: «Hacia una cultura paliativa» del Dr. Jacinto Bátiz\, «Velad conmigo» de Cicely Saunders y «A ti que lloras porque amabas» de José Carlos Bermejo. \n  \nInscripciones
URL:https://fundacionpiaaguirreche.org/calendario/mesa-redonda-atencion-primaria-y-cuidados-paliativos/
LOCATION:Biblioteca de Bidebarrieta\, Bidebarrieta 4\, Bilbao\, Vizcaya\, 48005\, España
ATTACH;FMTTYPE=image/jpeg:https://fundacionpiaaguirreche.org/wp-content/uploads/2026/04/Bidebarrieta.jpg
ORGANIZER;CN="Fundaci%C3%B3n P%C3%ADa Aguirreche":MAILTO:info@fundacionpiaaguirreche.org
END:VEVENT
BEGIN:VEVENT
DTSTART;TZID=Europe/Madrid:20260508T084500
DTEND;TZID=Europe/Madrid:20260508T191500
DTSTAMP:20260426T045716
CREATED:20260302T104759Z
LAST-MODIFIED:20260407T102617Z
UID:4825-1778229900-1778267700@fundacionpiaaguirreche.org
SUMMARY:Jornada SEMPAL para residentes (IV edición)
DESCRIPTION:La Sociedad Española de Medicina Paliativa (SEMPAL)\, constituida en el seno de SECPAL\, sigue reforzando su apuesta por la formación de los MIR en cuidados paliativos a través de las Jornadas Medicina Paliativa: un enfoque imprescindible\, que en su cuarta edición llegarán a tres nuevas sedes: Bilbao\, Denia (Alicante) y Toledo. \nCon esta decisión se busca dar respuesta a la enorme demanda registrada en las convocatorias anteriores y extender el alcance de la iniciativa a otros puntos del país\, tras su paso por Madrid —que ha albergado tres cursos en total: dos en 2024 y uno en 2025—\, Zaragoza y Sevilla. La gran acogida registrada en todas estas citas refleja el enorme interés de los profesionales por mejorar su formación en el ámbito de los cuidados paliativos y la atención al final de la vida\, independientemente de la especialidad médica a la que se dediquen en su práctica asistencial. \nDe este modo\, el objetivo de SECPAL y SEMPAL es facilitar que los MIR adquieran herramientas y conocimientos que contribuyan a alcanzar la excelencia asistencial desde la mirada paliativa\, considerando al paciente en todas sus dimensiones para proporcionarle una atención verdaderamente personalizada e integral. \nPara ello\, se han preparado diferentes sesiones que serán impartidas por expertos de reconocido prestigio en este campo\, quienes  desarrollarán unos contenidos comunes a las tres sedes: \n\n¿Por qué Medicina Paliativa para residentes? Mitos en cuidados paliativos.\nIdentificación de necesidades paliativas en diferentes fases. Trayectorias de enfermedades crónicas avanzadas complejas.\nPlanificación compartida de la atención: ¿cómo?\, ¿cuándo?\, ¿por qué?\nControl sintomático y del paciente con necesidades paliativas. Enfoque multidisciplinar.\nHerramientas básicas de comunicación. Cómo abordar la información.\nManejo integral y trabajo en equipo.\nManejo de la vía subcutánea. Oportunidades.\nCuidados al final de la vida.\n\n  \nLas IV Jornadas SEMPAL para Residentes cuentan con becas de asistencia gratuita concedidas por la Fundación SECPAL. La inscripción está exclusivamente reservada a socios y socias de SECPAL\, por lo que es imprescindible tener esta condición para poder acceder a esta formación. \nAquellos residentes que aún no sean socios podrán darse de alta durante el proceso de inscripción por una cuota anual de 60 euros que\, además de permitirles realizar este curso sin coste\, les dará acceso a numerosas ventajas\, como la participación gratuita o con descuento en congresos y actividades formativas y científicas organizadas por SECPAL y una suscripción a Medicina Paliativa\, la revista de referencia en español dedicada a los cuidados paliativos\, entre otros beneficios. \nLos MIR que deseen asistir a las jornadas deberán preinscribirse en una de las tres sedes\, teniendo en cuenta lo siguiente: las plazas se asignarán por orden de inscripción; no obstante\, si la demanda supera el número de plazas disponibles\, se dará prioridad a los médicos residentes procedentes de las áreas geográficas más próximas a cada sede\, con el fin de garantizar una distribución equitativa y facilitar el acceso al curso a profesionales de todas las comunidades y ciudades autónomas. \n  \n  \nInscripción
URL:https://fundacionpiaaguirreche.org/calendario/jornada-sempal-para-residentes-iv-edicion/
LOCATION:Auditorio Centenario de la Universidad de Deusto\, Avenida de las Universidades 24\, Bilbao\, Vizcaya\, 48007\, España
CATEGORIES:Congreso
ATTACH;FMTTYPE=image/webp:https://fundacionpiaaguirreche.org/wp-content/uploads/2026/03/slider-jornada-mir-2026-3-130326.webp
ORGANIZER;CN="SECPAL":MAILTO:info@secpal.org
END:VEVENT
BEGIN:VEVENT
DTSTART;TZID=Europe/Madrid:20260519T083000
DTEND;TZID=Europe/Madrid:20260519T190000
DTSTAMP:20260426T045716
CREATED:20260302T095409Z
LAST-MODIFIED:20260302T104317Z
UID:4815-1779179400-1779217200@fundacionpiaaguirreche.org
SUMMARY:XXI Jornada de Humanización de la Salud
DESCRIPTION:El próximo 19 de mayo de 2026\, el Auditorio Centenario de la Universidad de Deusto (Bilbao) acogerá la XXXI Jornada de Humanización de la Salud\, un encuentro de referencia que reúne a profesionales sanitarios\, agentes sociales\, académicos y personas comprometidas con una atención centrada en la dignidad y el cuidado integral. \nPrograma \n\n\n\n\n\n\n\n\n\n\n8:30–9:00h. Acogida y entrega de documentación\n9:00–9:30h. Saludo y apertura institucional \n\nUniversidad de Deusto: Rector\nFundación Pia Aguirreche: José Galíndez\, Presidente\nCentro de Humanización de la Salud: Dr. José Carlos Bermejo\, Director General\n\n9:30–10:30h. Conferencia de apertura: «El arte\, bálsamo espiritual» \n\nDr. Francisco Torralba\, Doctor en Filosofía\, Teología\, Pedagogía y Historia. Catedrático de Filosofía en la Universidad Ramón Llull.\n\nModera: Dr. Jacinto Bátiz\, Médico paliativista. Patrono de la Fundación Pia Aguirreche.\n10:30–11:30h. Experiencias de aplicación del arte en salud \n\nMedicina narrativa para el arte de cuidar: Dña. Sandra López\, Médico de familia en OSI Barakaldo-Sestao.\nAcompañar a través del Arte. Dña. Silvia Fernández. Presidenta y Fundadora de Arte Paliativo.\n\nModera: Dña. María Galíndez. Patrona de la Fundación Pia Aguirreche \n11.30-12.00h. Descanso \n12:00-12.30h. Presentación de la plataforma “Para ti\, Paliativos” \n\nDña. Sofía Vallejo. Directora Fundación Pia Aguirreche\n\n12.30-13.30h. Conferencia: Arte\, salud y humanización  \n\nD. Juan Alberto García de Cubas. Presidente y director de la Fundación Cultura en Vena.\n\n13.30-14.30h. Acto de entrega Premios Humanizar \n14.30-16h. Almuerzo \n16:00-17.30h. Taller: Escucha y acompañamiento de la dimensión espiritual en el final de vida  \n\nD. Xabier Azkoitia. Teólogo. Máster en Counselling y en Duelo. Experto en Pastoral de la Salud. Responsable del Atención Espiritual en el Centro San Camilo (Madrid)\n\n17.30-18.30h Conferencia de clausura: Diagnóstico espiritual y humanización.  \n\nDra. María Nabal. Médico de familia. Máster en Cuidados Paliativos y en Bioética\n\n18.30h. Conclusiones: Migueli \n19.00h. Fin de la Jornada \n\nInscripción
URL:https://fundacionpiaaguirreche.org/calendario/xxi-jornada-de-humanizacion-de-la-salud/
LOCATION:Auditorio Centenario de la Universidad de Deusto\, Avenida de las Universidades 24\, Bilbao\, Vizcaya\, 48007\, España
CATEGORIES:Congreso
ATTACH;FMTTYPE=image/jpeg:https://fundacionpiaaguirreche.org/wp-content/uploads/2026/03/Silla-de-ruedas-2.jpg
ORGANIZER;CN="Fundaci%C3%B3n P%C3%ADa Aguirreche":MAILTO:info@fundacionpiaaguirreche.org
END:VEVENT
END:VCALENDAR