BEGIN:VCALENDAR
VERSION:2.0
PRODID:-//Fundación Pía Aguirreche - ECPv6.15.20//NONSGML v1.0//EN
CALSCALE:GREGORIAN
METHOD:PUBLISH
X-ORIGINAL-URL:https://fundacionpiaaguirreche.org
X-WR-CALDESC:Eventos para Fundación Pía Aguirreche
REFRESH-INTERVAL;VALUE=DURATION:PT1H
X-Robots-Tag:noindex
X-PUBLISHED-TTL:PT1H
BEGIN:VTIMEZONE
TZID:Europe/Madrid
BEGIN:DAYLIGHT
TZOFFSETFROM:+0100
TZOFFSETTO:+0200
TZNAME:CEST
DTSTART:20250330T010000
END:DAYLIGHT
BEGIN:STANDARD
TZOFFSETFROM:+0200
TZOFFSETTO:+0100
TZNAME:CET
DTSTART:20251026T010000
END:STANDARD
BEGIN:DAYLIGHT
TZOFFSETFROM:+0100
TZOFFSETTO:+0200
TZNAME:CEST
DTSTART:20260329T010000
END:DAYLIGHT
BEGIN:STANDARD
TZOFFSETFROM:+0200
TZOFFSETTO:+0100
TZNAME:CET
DTSTART:20261025T010000
END:STANDARD
BEGIN:DAYLIGHT
TZOFFSETFROM:+0100
TZOFFSETTO:+0200
TZNAME:CEST
DTSTART:20270328T010000
END:DAYLIGHT
BEGIN:STANDARD
TZOFFSETFROM:+0200
TZOFFSETTO:+0100
TZNAME:CET
DTSTART:20271031T010000
END:STANDARD
END:VTIMEZONE
BEGIN:VEVENT
DTSTART;TZID=Europe/Madrid:20260618T183000
DTEND;TZID=Europe/Madrid:20260618T200000
DTSTAMP:20260426T061525
CREATED:20251210T113538Z
LAST-MODIFIED:20251210T113538Z
UID:4443-1781807400-1781812800@fundacionpiaaguirreche.org
SUMMARY:Clase magistral de la Dra. Mónica Lalanda: Sólo se muere una vez
DESCRIPTION:Una visión crítica de la medicalización del final de la vida y un análisis a través del grafismo de las viñetas sobre envejecimiento\, enfermedad y muerte.\nNecesitamos poner la muerte encima de la mesa\, en las conversaciones\, en la formación de los médicos\, en los medios de comunicación\, en las redes sociales. La sociedad ha dado la espalda a la única realidad que conocemos: todos vamos a morir. Los médicos vivimos la muerte como un fracaso profesional y carecemos de herramientas de comunicación para afrontarlo. Con todo esto\, la medicina moderna en esta imparable locura ha abandonado la mesura\, la sensatez y el «no hacer daño»\, provocando malas muertes y un creciente ensañamiento terapéutico. Y mientras\, se cuela la eutanasia como única «muerte digna». A través de dibujos y algo de ironía\, pero sin perder el rigor\, esta charla quiere ser un grito de atención. Podemos y debemos morir mejor porque sóolo se muere una vez. \nDra. Mónica Lalanda\nFue médico de urgencias en el sistema de salud británico. Se dedica exclusivamente a la comunicación desde 2017. Bioeticista\, autora de medicina gráfica y promotora de la medicina gráfica en España. Directora del Máster en Medicina Gráfica de la Universidad Internacional de Andalucía. \n  \nInscripciones
URL:https://fundacionpiaaguirreche.org/calendario/clase-magistral-de-la-dra-monica-lalanda-solo-se-muere-una-vez/
LOCATION:Auditorio Centenario de la Universidad de Deusto\, Avenida de las Universidades 24\, Bilbao\, Vizcaya\, 48007\, España
CATEGORIES:Clases magistrales
ATTACH;FMTTYPE=image/jpeg:https://fundacionpiaaguirreche.org/wp-content/uploads/2025/11/Monica-Lalanda1.jpeg
ORGANIZER;CN="Fundaci%C3%B3n P%C3%ADa Aguirreche":MAILTO:info@fundacionpiaaguirreche.org
END:VEVENT
END:VCALENDAR